0.3125
0.0
0.0
-0.3125
165000.15625
293749.84375
