2.5
0.0
0.0
-2.5
140001.25
474998.75
