2.5
0.0
0.0
-2.5
200001.25
474998.75
