2.5
0.0
0.0
-2.5
60001.25
449998.75
