2.5
0.0
0.0
-2.5
80001.25
549998.75
