1.25
0.0
0.0
-1.25
230000.625
624999.375
