1.25
0.0
0.0
-1.25
220000.625
599999.375
