1.25
0.0
0.0
-1.25
120000.625
562499.375
