1.25
0.0
0.0
-1.25
270000.625
574999.375
