1.25
0.0
0.0
-1.25
240000.625
537499.375
