1.25
0.0
0.0
-1.25
110000.625
524999.375
