1.25
0.0
0.0
-1.25
210000.625
474999.375
