1.25
0.0
0.0
-1.25
190000.625
437499.375
