1.25
0.0
0.0
-1.25
140000.625
362499.375
