1.25
0.0
0.0
-1.25
180000.625
337499.375
