1.25
0.0
0.0
-1.25
160000.625
324999.375
