1.25
0.0
0.0
-1.25
270000.625
637499.375
