1.25
0.0
0.0
-1.25
50000.625
349999.375
