2.5
0.0
0.0
-2.5
280001.25
574998.75
