2.5
0.0
0.0
-2.5
180001.25
449998.75
