2.5
0.0
0.0
-2.5
100001.25
399998.75
