1.5625
0
0
-1.5625
48760.0140236
389246.691496
