1.5625
0
0
-1.5625
191400.277024
496808.411264
