1.5625
0
0
-1.5625
109064.130024
540963.274929
