1.5625
0
0
-1.5625
244802.698024
601700.654941
