1.5625
0
0
-1.5625
260891.192024
549659.724543
