1.5625
0
0
-1.5625
238510.679024
489656.103492
