1.5625
0
0
-1.5625
98034.3890236
474209.761508
