1.5625
0
0
-1.5625
162214.796024
462493.389217
