1.5625
0
0
-1.5625
135888.930024
438123.645795
