1.5625
0
0
-1.5625
198234.019024
436969.109744
