1.5625
0
0
-1.5625
254704.186024
492820.189307
