1.5625
0
0
-1.5625
114215.982024
482972.797992
