1.5625
0
0
-1.5625
175889.303024
436857.276535
