1.5625
0
0
-1.5625
240400.023024
560660.880339
