1.5625
0
0
-1.5625
191608.876024
437716.709457
