1.5625
0
0
-1.5625
33567.5590236
395703.092028
