1.5625
0
0
-1.5625
236455.788024
538301.220413
