1.5625
0
0
-1.5625
216730.881024
519760.107165
