1.5625
0
0
-1.5625
195703.592024
315085.767425
