1.5625
0
0
-1.5625
195973.512024
537240.530461
