1.5625
0
0
-1.5625
207477.667024
438344.909122
