1.5625
0
0
-1.5625
194989.641024
477049.123012
