1.5625
0
0
-1.5625
230920.370024
503268.391551
