1.5625
0
0
-1.5625
223720.175024
547086.513874
