1.5625
0
0
-1.5625
203325.874024
371633.908319
