1.5625
0
0
-1.5625
180612.971024
318770.352776
