1.5625
0
0
-1.5625
162184.356024
434356.86674
