1.5625
0
0
-1.5625
120948.090024
448971.505067
