1.5625
0
0
-1.5625
198771.296024
405675.778346
